BEGIN:VCALENDAR
VERSION:2.0
PRODID:-//Holy Cross Services - ECPv6.15.16.1//NONSGML v1.0//EN
CALSCALE:GREGORIAN
METHOD:PUBLISH
X-ORIGINAL-URL:https://holycrossservices.org
X-WR-CALDESC:Events for Holy Cross Services
REFRESH-INTERVAL;VALUE=DURATION:PT1H
X-Robots-Tag:noindex
X-PUBLISHED-TTL:PT1H
BEGIN:VTIMEZONE
TZID:UTC
BEGIN:STANDARD
TZOFFSETFROM:+0000
TZOFFSETTO:+0000
TZNAME:UTC
DTSTART:20220101T000000
END:STANDARD
END:VTIMEZONE
BEGIN:VEVENT
DTSTART;TZID=UTC:20230302T173000
DTEND;TZID=UTC:20230302T200000
DTSTAMP:20260422T101705
CREATED:20221212T200222Z
LAST-MODIFIED:20250317T160100Z
UID:18921-1677778200-1677787200@holycrossservices.org
SUMMARY:Homeless No More - 2025
DESCRIPTION:SUPPORTING THE NEW HOPE COMMUNITY CENTER\n			\n				\n				\n				\n				\n				\n			\n				\n				\n				\n				\n				Learn More about HOMELESS NO MORE and Sponsorships HERE\n			\n			\n				\n				\n				\n				\n			\n				\n				\n				\n				\n				\n				\n				\n				\n				\n				\n				Homeless No More – 2023
URL:https://holycrossservices.org/event/homeless-no-more-2025/
LOCATION:Kellogg Center\, 219 S Harrison Rd.\, East Lansing\, MI\, 48824\, United States
CATEGORIES:Corporate Event
ATTACH;FMTTYPE=image/jpeg:https://holycrossservices.org/wp-content/uploads/2022/12/Growing-Hope.jpg
END:VEVENT
END:VCALENDAR